BEGIN:VCALENDAR
VERSION:2.0
PRODID:City of Bloomington, Illinois Calendar Creator
METHOD:PUBLISH
BEGIN:VEVENT
DTSTAMP:20251217T103428
DTSTART:20260824T173000
DTEND:20260824T180000
SUMMARY:City of Bloomington Township
DESCRIPTION:<table itemprop="copy-paste-table" data-is-focusable="true" tabindex="-1">    <tbody>        <tr>            <td>            <table itemprop="copy-paste-table" data-is-focusable="true" tabindex="-1">                <tbody>                    <tr>                        <td>Meeting Documents:</td>                        <td><a href="https://bloomingtoncitytownship.org/documents/" target="_blank">City of Bloomington Township's Website</a></td>                    </tr>                    <tr>                        <td>Public Comment:</td>                        <td>                        <p>Individuals wishing to provide emailed public comment must email comments to&nbsp;<a aria-label="Link publiccomment@cityblm.org" title="mailto:publiccomment@cityblm.org" href="mailto:publiccomment@cityblm.org" rel="noopener noreferrer" target="_blank" tabindex="-1" ___m14voj0="" f3rmtva="" f1ern45e="" f1deefiw="" f1n71otn="" f1q5o8ev="" f1h8hb77="" f1vxd6vx="" f1ewtqcl="" fyind8e="" f1k6fduh="" f1w7gpdv="" fk6fouc="" fjoy568="" figsok6="" f1hu3pq6="" f11qmguv="" f19f4twv="" f1tyq0we="" f1g0x7ka="" fhxju0i="" f1qch9an="" f1cnd47f="" fqv5qza="" f1vmzxwi="" f1o700av="" f13mvf36="" f9n3di6="" f1ids18y="" fygtlnl="" f1deo86v="" f12x56k7="" f1iescvh="" ftqa4ok="" f50u1b5="" fs3pq8b="" f1hghxdh="" f1tymzes="" f1x7u7e9="" f1cmlufx="" f10aw75t="" fsle3fq"="">publiccomment@cityblm.org</a>&nbsp;at least 15 minutes before the start of the meeting. Individuals wishing to speak in-person may register at&nbsp;<a aria-label="Link cityblm.org/" title="http://www.cityblm.org/register" href="http://www.cityblm.org/register" rel="noopener noreferrer" target="_blank" tabindex="-1" ___m14voj0="" f3rmtva="" f1ern45e="" f1deefiw="" f1n71otn="" f1q5o8ev="" f1h8hb77="" f1vxd6vx="" f1ewtqcl="" fyind8e="" f1k6fduh="" f1w7gpdv="" fk6fouc="" fjoy568="" figsok6="" f1hu3pq6="" f11qmguv="" f19f4twv="" f1tyq0we="" f1g0x7ka="" fhxju0i="" f1qch9an="" f1cnd47f="" fqv5qza="" f1vmzxwi="" f1o700av="" f13mvf36="" f9n3di6="" f1ids18y="" fygtlnl="" f1deo86v="" f12x56k7="" f1iescvh="" ftqa4ok="" f50u1b5="" fs3pq8b="" f1hghxdh="" f1tymzes="" f1x7u7e9="" f1cmlufx="" f10aw75t="" fsle3fq"="">cityblm.org/</a><a aria-label="Link register" title="http://www.cityblm.org/register" href="http://www.cityblm.org/register" rel="noopener noreferrer" target="_blank" tabindex="-1" ___m14voj0="" f3rmtva="" f1ern45e="" f1deefiw="" f1n71otn="" f1q5o8ev="" f1h8hb77="" f1vxd6vx="" f1ewtqcl="" fyind8e="" f1k6fduh="" f1w7gpdv="" fk6fouc="" fjoy568="" figsok6="" f1hu3pq6="" f11qmguv="" f19f4twv="" f1tyq0we="" f1g0x7ka="" fhxju0i="" f1qch9an="" f1cnd47f="" fqv5qza="" f1vmzxwi="" f1o700av="" f13mvf36="" f9n3di6="" f1ids18y="" fygtlnl="" f1deo86v="" f12x56k7="" f1iescvh="" ftqa4ok="" f50u1b5="" fs3pq8b="" f1hghxdh="" f1tymzes="" f1x7u7e9="" f1cmlufx="" f10aw75t="" fsle3fq"="">register</a>&nbsp;at least 5 minutes before the start of the meeting.</p>                        </td>                    </tr>                </tbody>            </table>            <div unselectable="on" rrsw"="" rel="rrWidget"></div>            <div unselectable="on" rrs"="" rel="rrWidget"></div>            <div unselectable="on" rrse"="" rel="rrWidget"></div>            <div unselectable="on" rre"="" rel="rrWidget"></div>            <div unselectable="on" rrne"="" rel="rrWidget"></div>            <div unselectable="on" rrn"="" rel="rrWidget"></div>            <div unselectable="on" rrnw"="" rel="rrWidget"></div>            <div unselectable="on" rrw"="" rel="rrWidget"></div>            <p>&nbsp;</p>            <p style="text-align: justify;">The City of Bloomington Township’s borders are contiguous with the City of Bloomington’s city limits. City Council members, including the Mayor, act as the Township Board. The Township is not managed by the City of Bloomington and the City is not responsible for maintaining Township records or ensuring legal compliance including the Open Meetings Act (OMA), Freedom of Information Act (FOIA), etc. The Township's website can be found&nbsp;<strong><a href="https://bloomingtoncitytownship.org/" target="_blank">HERE</a></strong>.</p>            </td>            <td>&nbsp;</td>        </tr>        <tr>            <td>&nbsp;</td>            <td>&nbsp;</td>        </tr>    </tbody></table><br>
X-ALT-DESC;FMTTYPE=text/html:<table itemprop="copy-paste-table" data-is-focusable="true" tabindex="-1">    <tbody>        <tr>            <td>            <table itemprop="copy-paste-table" data-is-focusable="true" tabindex="-1">                <tbody>                    <tr>                        <td>Meeting Documents:</td>                        <td><a href="https://bloomingtoncitytownship.org/documents/" target="_blank">City of Bloomington Township's Website</a></td>                    </tr>                    <tr>                        <td>Public Comment:</td>                        <td>                        <p>Individuals wishing to provide emailed public comment must email comments to&nbsp;<a aria-label="Link publiccomment@cityblm.org" title="mailto:publiccomment@cityblm.org" href="mailto:publiccomment@cityblm.org" rel="noopener noreferrer" target="_blank" tabindex="-1" ___m14voj0="" f3rmtva="" f1ern45e="" f1deefiw="" f1n71otn="" f1q5o8ev="" f1h8hb77="" f1vxd6vx="" f1ewtqcl="" fyind8e="" f1k6fduh="" f1w7gpdv="" fk6fouc="" fjoy568="" figsok6="" f1hu3pq6="" f11qmguv="" f19f4twv="" f1tyq0we="" f1g0x7ka="" fhxju0i="" f1qch9an="" f1cnd47f="" fqv5qza="" f1vmzxwi="" f1o700av="" f13mvf36="" f9n3di6="" f1ids18y="" fygtlnl="" f1deo86v="" f12x56k7="" f1iescvh="" ftqa4ok="" f50u1b5="" fs3pq8b="" f1hghxdh="" f1tymzes="" f1x7u7e9="" f1cmlufx="" f10aw75t="" fsle3fq"="">publiccomment@cityblm.org</a>&nbsp;at least 15 minutes before the start of the meeting. Individuals wishing to speak in-person may register at&nbsp;<a aria-label="Link cityblm.org/" title="http://www.cityblm.org/register" href="http://www.cityblm.org/register" rel="noopener noreferrer" target="_blank" tabindex="-1" ___m14voj0="" f3rmtva="" f1ern45e="" f1deefiw="" f1n71otn="" f1q5o8ev="" f1h8hb77="" f1vxd6vx="" f1ewtqcl="" fyind8e="" f1k6fduh="" f1w7gpdv="" fk6fouc="" fjoy568="" figsok6="" f1hu3pq6="" f11qmguv="" f19f4twv="" f1tyq0we="" f1g0x7ka="" fhxju0i="" f1qch9an="" f1cnd47f="" fqv5qza="" f1vmzxwi="" f1o700av="" f13mvf36="" f9n3di6="" f1ids18y="" fygtlnl="" f1deo86v="" f12x56k7="" f1iescvh="" ftqa4ok="" f50u1b5="" fs3pq8b="" f1hghxdh="" f1tymzes="" f1x7u7e9="" f1cmlufx="" f10aw75t="" fsle3fq"="">cityblm.org/</a><a aria-label="Link register" title="http://www.cityblm.org/register" href="http://www.cityblm.org/register" rel="noopener noreferrer" target="_blank" tabindex="-1" ___m14voj0="" f3rmtva="" f1ern45e="" f1deefiw="" f1n71otn="" f1q5o8ev="" f1h8hb77="" f1vxd6vx="" f1ewtqcl="" fyind8e="" f1k6fduh="" f1w7gpdv="" fk6fouc="" fjoy568="" figsok6="" f1hu3pq6="" f11qmguv="" f19f4twv="" f1tyq0we="" f1g0x7ka="" fhxju0i="" f1qch9an="" f1cnd47f="" fqv5qza="" f1vmzxwi="" f1o700av="" f13mvf36="" f9n3di6="" f1ids18y="" fygtlnl="" f1deo86v="" f12x56k7="" f1iescvh="" ftqa4ok="" f50u1b5="" fs3pq8b="" f1hghxdh="" f1tymzes="" f1x7u7e9="" f1cmlufx="" f10aw75t="" fsle3fq"="">register</a>&nbsp;at least 5 minutes before the start of the meeting.</p>                        </td>                    </tr>                </tbody>            </table>            <div unselectable="on" rrsw"="" rel="rrWidget"></div>            <div unselectable="on" rrs"="" rel="rrWidget"></div>            <div unselectable="on" rrse"="" rel="rrWidget"></div>            <div unselectable="on" rre"="" rel="rrWidget"></div>            <div unselectable="on" rrne"="" rel="rrWidget"></div>            <div unselectable="on" rrn"="" rel="rrWidget"></div>            <div unselectable="on" rrnw"="" rel="rrWidget"></div>            <div unselectable="on" rrw"="" rel="rrWidget"></div>            <p>&nbsp;</p>            <p style="text-align: justify;">The City of Bloomington Township’s borders are contiguous with the City of Bloomington’s city limits. City Council members, including the Mayor, act as the Township Board. The Township is not managed by the City of Bloomington and the City is not responsible for maintaining Township records or ensuring legal compliance including the Open Meetings Act (OMA), Freedom of Information Act (FOIA), etc. The Township's website can be found&nbsp;<strong><a href="https://bloomingtoncitytownship.org/" target="_blank">HERE</a></strong>.</p>            </td>            <td>&nbsp;</td>        </tr>        <tr>            <td>&nbsp;</td>            <td>&nbsp;</td>        </tr>    </tbody></table><br>
LOCATION:Government Center Board Room\, 115 E. Washington Street\, Fourth Floor\, Room 400 Bloomington\, Illinois 61701
CLASS:PUBLIC
END:VEVENT
END:VCALENDAR
