BEGIN:VCALENDAR
VERSION:2.0
PRODID:City of Bloomington, Illinois Calendar Creator
METHOD:PUBLISH
BEGIN:VEVENT
DTSTAMP:20251217T105652
DTSTART:20260721T173000
DTEND:20260721T193000
SUMMARY:Library Board of Trustees
DESCRIPTION:<table itemprop="copy-paste-table" data-is-focusable="true" tabindex="-1">    <tbody>        <tr>            <td>Meeting Documents:</td>            <td><a href="https://www.bloomingtonlibrary.org/bpl-board" target="_blank" rel="noopener">Library Board of Trustee's Documents</a></td>        </tr>    </tbody></table><p>&nbsp;</p><p>The Library Board of Trustees is not managed by the City of Bloomington and the City is not responsible for maintaining the Library's records or ensuring legal compliance including the Open Meetings Act (OMA), Freedom of Information Act (FOIA), etc. The Library's website can be found <a href="https://www.bloomingtonlibrary.org/" target="_blank" rel="noopener">HERE</a>.</p>
X-ALT-DESC;FMTTYPE=text/html:<table itemprop="copy-paste-table" data-is-focusable="true" tabindex="-1">    <tbody>        <tr>            <td>Meeting Documents:</td>            <td><a href="https://www.bloomingtonlibrary.org/bpl-board" target="_blank" rel="noopener">Library Board of Trustee's Documents</a></td>        </tr>    </tbody></table><p>&nbsp;</p><p>The Library Board of Trustees is not managed by the City of Bloomington and the City is not responsible for maintaining the Library's records or ensuring legal compliance including the Open Meetings Act (OMA), Freedom of Information Act (FOIA), etc. The Library's website can be found <a href="https://www.bloomingtonlibrary.org/" target="_blank" rel="noopener">HERE</a>.</p>
LOCATION:BLM Public Library\, Community Room\, 205 E. Olive St. Bloomington\, Illinois 61701
CLASS:PUBLIC
END:VEVENT
END:VCALENDAR
