BEGIN:VCALENDAR
VERSION:2.0
PRODID:City of Bloomington, Illinois Calendar Creator
METHOD:PUBLISH
BEGIN:VEVENT
DTSTAMP:20260203T083343
DTSTART:20260411T000000
DTEND:20260411T235900
SUMMARY:Reserved
DESCRIPTION:
X-ALT-DESC;FMTTYPE=text/html:
LOCATION:
CLASS:PUBLIC
END:VEVENT
END:VCALENDAR
